BEGIN:VCALENDAR
VERSION:2.0
PRODID:-//STADTKULTUR HAMBURG//kultur-hamburg.de///DE
CALSCALE:GREGORIAN
BEGIN:VEVENT
X-WR-TIMEZONE:Europe/Berlin
DTSTART:20150313T190000
DTEND:20150313T203000
LOCATION:Lenzsiedlung e.V. \, Julius-Vosseler-Straße 193 \, 22527 Hamburg
DTSTAMP:20260419T152546
SUMMARY:Boxtraining
URL;VALUE=URI:https://www.kultur-hamburg.de/kurse_workshops/boxtraining-190183
DESCRIPTION:Fitnessboxen für Erwachsene von Frischling bis Alter Hase
UID:0d40e0d93bf7b5385f2fd43ad3d21240@kulturhamburg
END:VEVENT
END:VCALENDAR