BEGIN:VCALENDAR
VERSION:2.0
PRODID:-//STADTKULTUR HAMBURG//kultur-hamburg.de///DE
CALSCALE:GREGORIAN
BEGIN:VEVENT
X-WR-TIMEZONE:Europe/Berlin
DTSTART:20150201T190000
DTEND:20150201T210000
LOCATION:Lenzsiedlung e.V. \, Julius-Vosseler-Straße 193 \, 22527 Hamburg
DTSTAMP:20260420T011312
SUMMARY:Boxtraining
URL;VALUE=URI:https://www.kultur-hamburg.de/kurse_workshops/boxtraining-190229
DESCRIPTION:Fitnessboxen für Erwachsene von Frischling bis Alter Hase.
UID:48968812a06f1b7a0f1d85c7e6a77f24@kulturhamburg
END:VEVENT
END:VCALENDAR