BEGIN:VCALENDAR
VERSION:2.0
PRODID:-//STADTKULTUR HAMBURG//kultur-hamburg.de///DE
CALSCALE:GREGORIAN
BEGIN:VEVENT
X-WR-TIMEZONE:Europe/Berlin
DTSTART:20150301T190000
DTEND:20150301T210000
LOCATION:Lenzsiedlung e.V. \, Julius-Vosseler-Straße 193 \, 22527 Hamburg
DTSTAMP:20260419T183640
SUMMARY:Boxtraining
URL;VALUE=URI:https://www.kultur-hamburg.de/kurse_workshops/boxtraining-190233
DESCRIPTION:Fitnessboxen für Erwachsene von Frischling bis Alter Hase.
UID:7f3b68b37fd157a95c6fe7e1c64a5e34@kulturhamburg
END:VEVENT
END:VCALENDAR