BEGIN:VCALENDAR
VERSION:2.0
PRODID:-//STADTKULTUR HAMBURG//kultur-hamburg.de///DE
CALSCALE:GREGORIAN
BEGIN:VEVENT
X-WR-TIMEZONE:Europe/Berlin
DTSTART:20150228T100000
DTEND:20150228T180000
LOCATION:Kulturhof Dulsberg \, Alter Teichweg 200 \, 22049 Hamburg
DTSTAMP:20260419T183707
SUMMARY:Meisterkurs mit Prof. Jens Wagner
URL;VALUE=URI:https://www.kultur-hamburg.de/kurse_workshops/meisterkurs-mit-prof.-jens-wagner-191189
DESCRIPTION:Meisterkurs - Klassische Gitarre

Zeitraum: 14.02.2015 von 10:00 bis 13:00 und 15:00 bis 18:00 Uhr
Aktiv 75,00 Euro, Passiv 35,00 Euro
UID:731a9339cc81aef876828c7431399341@kulturhamburg
END:VEVENT
END:VCALENDAR