BEGIN:VCALENDAR
VERSION:2.0
PRODID:-//STADTKULTUR HAMBURG//kultur-hamburg.de///DE
CALSCALE:GREGORIAN
BEGIN:VEVENT
X-WR-TIMEZONE:Europe/Berlin
DTSTART:20150222T100000
DTEND:20150222T140000
LOCATION:KulturKlinker Barmbek e.V. \, Lorichsstraße 28 a \, 22307 Hamburg
DTSTAMP:20260419T201744
SUMMARY:Workshop: Digitale Fotografie
URL;VALUE=URI:https://www.kultur-hamburg.de/kurse_workshops/workshop-digitale-fotografie-192158
DESCRIPTION:Grundlagen & Motive in Theorie und Praxis – mit Joachim Hoppe
UID:a76becebe530de702b14057968360d33@kulturhamburg
END:VEVENT
END:VCALENDAR