BEGIN:VCALENDAR
VERSION:2.0
PRODID:-//STADTKULTUR HAMBURG//kultur-hamburg.de///DE
CALSCALE:GREGORIAN
BEGIN:VEVENT
X-WR-TIMEZONE:Europe/Berlin
DTSTART:20150115T093000
DTEND:20150115T110000
LOCATION:KulturKlinker Barmbek e.V. \, Lorichsstraße 28 a \, 22307 Hamburg
DTSTAMP:20260420T045508
SUMMARY:Yoga 55+
URL;VALUE=URI:https://www.kultur-hamburg.de/kurse_workshops/yoga-55-193411
DESCRIPTION:In jedem Alter ist Yoga möglich, macht Spaß und kann den Alltag erleichtern. In diesem Kurs wird hauptsächlich im Sitzen und Stehen mithilfe eines Stuhls gearbeitet.
UID:f6d540413f46ab8f88b81608d60f40ab@kulturhamburg
END:VEVENT
END:VCALENDAR