BEGIN:VCALENDAR
VERSION:2.0
PRODID:-//STADTKULTUR HAMBURG//kultur-hamburg.de///DE
CALSCALE:GREGORIAN
BEGIN:VEVENT
X-WR-TIMEZONE:Europe/Berlin
DTSTART:20150130T110000
DTEND:20150130T150000
LOCATION:Lola Rogge Schule \, Landwehr 11-13 \, 22087 Hamburg
DTSTAMP:20260420T012310
SUMMARY:TANZ ALS JOB? - TAG DER OFFENEN TÜR LOLA ROGGE SCHULE
URL;VALUE=URI:https://www.kultur-hamburg.de/kurse_workshops/tanz-als-job-tag-der-offenen-tuer-lola-rogge-schule-193715
DESCRIPTION:
UID:d008924933d9c653006dc9c44cb01e3c@kulturhamburg
END:VEVENT
END:VCALENDAR