BEGIN:VCALENDAR
VERSION:2.0
PRODID:-//STADTKULTUR HAMBURG//kultur-hamburg.de///DE
CALSCALE:GREGORIAN
BEGIN:VEVENT
X-WR-TIMEZONE:Europe/Berlin
DTSTART:20150202T194500
DTEND:20150223T214500
LOCATION:Lola Rogge Schule \, Landwehr 11-13 \, 22087 Hamburg
DTSTAMP:20260419T233719
SUMMARY:AUFBAUSEMINAR I: "VON DER IDEE ZUM STÜCK" - LOLA ROGGE SCHULE
URL;VALUE=URI:https://www.kultur-hamburg.de/kurse_workshops/aufbauseminar-i-von-der-idee-zum-stueck-lola-rogge-schule-193722
DESCRIPTION:für T-an-S-Absolventen und Tanzpädagogen - im Februar 2015
UID:fa96171eafc65ce21f53db34ce816d25@kulturhamburg
END:VEVENT
END:VCALENDAR