BEGIN:VCALENDAR
VERSION:2.0
PRODID:-//STADTKULTUR HAMBURG//kultur-hamburg.de///DE
CALSCALE:GREGORIAN
BEGIN:VEVENT
X-WR-TIMEZONE:Europe/Berlin
DTSTART:20150113T183000
DTEND:20150113T200000
LOCATION:TASK Schauspielschule für Kinder und Jugendliche \, Stresemannstraße 163 (Neue Flora) \, 22769 Hamburg
DTSTAMP:20260420T045405
SUMMARY:Kostenlose Schauspiel-Schnupperstunde (10-18 J.) - TASK Hamburg
URL;VALUE=URI:https://www.kultur-hamburg.de/kurse_workshops/kostenlose-schauspiel-schnupperstunde-10-18-j.-task-hamburg-195566
DESCRIPTION:Lust auf Schauspielunterricht aber keine Ahnung, wie das eigentlich so läuft?
Dann ist unsere Schnupperstunde genau das Richtige! Aufgebaut ist die Schnupperstunde wie eine echte Schauspielstunde. Wir beginnen mit einem klassischen Warm-up, anschließend wird improvisiert – das heißt, wir machen Theaterspiele ohne vorher auswendig gelernten Text. Wer möchte, bekommt hier schon einmal die Gelegenheit auf die Bühne – oder auch vor die Kamera – zu treten.

Voranmeldung erforderlich!
UID:517917120c3486f3ed4b7e87fcbe654a@kulturhamburg
END:VEVENT
END:VCALENDAR