BEGIN:VCALENDAR
VERSION:2.0
PRODID:-//STADTKULTUR HAMBURG//kultur-hamburg.de///DE
CALSCALE:GREGORIAN
BEGIN:VEVENT
X-WR-TIMEZONE:Europe/Berlin
DTSTART:20150304T200000
DTEND:20150304T213000
LOCATION:Zinnschmelze \, Maurienstraße 19 \, 22305 Hamburg
DTSTAMP:20260419T170511
SUMMARY:Feierabend Chor
URL;VALUE=URI:https://www.kultur-hamburg.de/kurse_workshops/feierabend-chor-197381
DESCRIPTION:Sei dabei und sing mit!
UID:502a0fd733a7c145896bf042eb4c624f@kulturhamburg
END:VEVENT
END:VCALENDAR