BEGIN:VCALENDAR
VERSION:2.0
PRODID:-//STADTKULTUR HAMBURG//kultur-hamburg.de///DE
CALSCALE:GREGORIAN
BEGIN:VEVENT
X-WR-TIMEZONE:Europe/Berlin
DTSTART:20150307T100000
DTEND:20150307T170000
LOCATION:Ev. Familienbildung Eppendorf \, Loogeplatz 14/16 \, 20249 Hamburg
DTSTAMP:20260419T170511
SUMMARY:Mein Leben als Drehbuch - Schreibseminar
URL;VALUE=URI:https://www.kultur-hamburg.de/kurse_workshops/mein-leben-als-drehbuch-schreibseminar-198307
DESCRIPTION:Nach dem Motto "Film is better than life" finden wir mit Hilfe von Techniken des Drehbuchschreibens unsere Heldin oder unseren Helden, seinen Gegenspieler und kreative Wendungen unserer Geschichte.
UID:4e89c361858f18af51cb869fa2f62aed@kulturhamburg
END:VEVENT
END:VCALENDAR