BEGIN:VCALENDAR
VERSION:2.0
PRODID:-//STADTKULTUR HAMBURG//kultur-hamburg.de///DE
CALSCALE:GREGORIAN
BEGIN:VEVENT
X-WR-TIMEZONE:Europe/Berlin
DTSTART:20150131T103000
DTEND:20150131T143000
LOCATION:Ev. Familienbildung Eppendorf \, Loogeplatz 14/16 \, 20249 Hamburg
DTSTAMP:20260420T011221
SUMMARY:Mein Flyer und ich - Texte fürs Selbstmarketing
URL;VALUE=URI:https://www.kultur-hamburg.de/kurse_workshops/mein-flyer-und-ich-texte-fuers-selbstmarketing-198311
DESCRIPTION:Texte für die eigene Website oder den Flyer: Wer bin ich und wie stelle ich mich dar? Wer ist meine Zielgruppe?
UID:3d88dc825fb96a837d05d095e7e32e0e@kulturhamburg
END:VEVENT
END:VCALENDAR