BEGIN:VCALENDAR
VERSION:2.0
PRODID:-//STADTKULTUR HAMBURG//kultur-hamburg.de///DE
CALSCALE:GREGORIAN
BEGIN:VEVENT
X-WR-TIMEZONE:Europe/Berlin
DTSTART:20110922T190000
DTEND:20110922T213000
LOCATION:KulturWerkstatt Harburg e.V. \, Kanalplatz 6 \, 21079 Hamburg
DTSTAMP:20260425T154951
SUMMARY:Kaltnadel-Radierung mit Jan Huber
URL;VALUE=URI:https://www.kultur-hamburg.de/kurse_workshops/kaltnadel-radierung-mit-jan-huber-19887
DESCRIPTION:
UID:d82733d616a586685596499cc11bd607@kulturhamburg
END:VEVENT
END:VCALENDAR