BEGIN:VCALENDAR
VERSION:2.0
PRODID:-//STADTKULTUR HAMBURG//kultur-hamburg.de///DE
CALSCALE:GREGORIAN
BEGIN:VEVENT
X-WR-TIMEZONE:Europe/Berlin
DTSTART:20150204T130000
DTEND:20150204T143000
LOCATION:Lenzsiedlung e.V. \, Julius-Vosseler-Straße 193 \, 22527 Hamburg
DTSTAMP:20260419T233541
SUMMARY:Computerclub für Fortgeschrittene
URL;VALUE=URI:https://www.kultur-hamburg.de/kurse_workshops/computerclub-fuer-fortgeschrittene-199161
DESCRIPTION:Sie haben den Anfängerkurs besucht? Sie wollen mehr
Internet, mehr verstehen, mehr machen?
Dann sind Sie in diesem Kurs richtig.
UID:86dae3efa1475a2e81cfd8bc07e24037@kulturhamburg
END:VEVENT
END:VCALENDAR