BEGIN:VCALENDAR
VERSION:2.0
PRODID:-//STADTKULTUR HAMBURG//kultur-hamburg.de///DE
CALSCALE:GREGORIAN
BEGIN:VEVENT
X-WR-TIMEZONE:Europe/Berlin
DTSTART:20150204T103000
DTEND:20150204T120000
LOCATION:Lenzsiedlung e.V. \, Julius-Vosseler-Straße 193 \, 22527 Hamburg
DTSTAMP:20260419T233707
SUMMARY:Computerkurs für Anfänger
URL;VALUE=URI:https://www.kultur-hamburg.de/kurse_workshops/computerkurs-fuer-anfaenger-199177
DESCRIPTION:Sie haben noch nie, oder fast nie einen Computer bedient?
Sie wissen nicht, was man mit einem Computer machen kann?
Dann sind Sie in diesem Kurs richtig.
UID:ee06f27114aee165ebb47c53475583fa@kulturhamburg
END:VEVENT
END:VCALENDAR