BEGIN:VCALENDAR
VERSION:2.0
PRODID:-//STADTKULTUR HAMBURG//kultur-hamburg.de///DE
CALSCALE:GREGORIAN
BEGIN:VEVENT
X-WR-TIMEZONE:Europe/Berlin
DTSTART:20150209T161500
DTEND:20150209T174500
LOCATION:Zinnschmelze \, Maurienstraße 19 \, 22305 Hamburg
DTSTAMP:20260419T215905
SUMMARY:Startdeck I
URL;VALUE=URI:https://www.kultur-hamburg.de/kurse_workshops/startdeck-i-201911
DESCRIPTION:Einsteigerkurs (8 bis 11 Jahre) Kursgebühr 38,00 EUR
UID:507c5529423a7fef18b7d32d927da53a@kulturhamburg
END:VEVENT
END:VCALENDAR