BEGIN:VCALENDAR
VERSION:2.0
PRODID:-//STADTKULTUR HAMBURG//kultur-hamburg.de///DE
CALSCALE:GREGORIAN
BEGIN:VEVENT
X-WR-TIMEZONE:Europe/Berlin
DTSTART:20150210T163000
DTEND:20150210T180000
LOCATION:Zinnschmelze \, Maurienstraße 19 \, 22305 Hamburg
DTSTAMP:20260419T220346
SUMMARY:Startdeck II
URL;VALUE=URI:https://www.kultur-hamburg.de/kurse_workshops/startdeck-ii-201920
DESCRIPTION:Einsteigerkurs (8 - 11 Jahre), Kursgebühr 38,00 EUR
UID:3fdf41c1ba468508e5f173dd3beb5211@kulturhamburg
END:VEVENT
END:VCALENDAR