BEGIN:VCALENDAR
VERSION:2.0
PRODID:-//STADTKULTUR HAMBURG//kultur-hamburg.de///DE
CALSCALE:GREGORIAN
BEGIN:VEVENT
X-WR-TIMEZONE:Europe/Berlin
DTSTART:20150210T200000
DTEND:20150210T213000
LOCATION:Zinnschmelze \, Maurienstraße 19 \, 22305 Hamburg
DTSTAMP:20260419T220334
SUMMARY:Startdeck Erwachsene
URL;VALUE=URI:https://www.kultur-hamburg.de/kurse_workshops/startdeck-erwachsene-201945
DESCRIPTION:Einsteigerkurs ab 25 Jahre, Kursgebühr 64,00 EUR
UID:56703b7eeb60a9c492cf1a678fe92fa9@kulturhamburg
END:VEVENT
END:VCALENDAR