BEGIN:VCALENDAR
VERSION:2.0
PRODID:-//STADTKULTUR HAMBURG//kultur-hamburg.de///DE
CALSCALE:GREGORIAN
BEGIN:VEVENT
X-WR-TIMEZONE:Europe/Berlin
DTSTART:20150209T180000
DTEND:20150209T193000
LOCATION:Zinnschmelze \, Maurienstraße 19 \, 22305 Hamburg
DTSTAMP:20260419T214918
SUMMARY:Startdeck IV
URL;VALUE=URI:https://www.kultur-hamburg.de/kurse_workshops/startdeck-iv-201951
DESCRIPTION:Einsteigerkurs (15 bis 18 Jahre), Kursgebühr 38,00 EUR
UID:b600caf6a359bea1d322fd380fb2e62d@kulturhamburg
END:VEVENT
END:VCALENDAR