BEGIN:VCALENDAR
VERSION:2.0
PRODID:-//STADTKULTUR HAMBURG//kultur-hamburg.de///DE
CALSCALE:GREGORIAN
BEGIN:VEVENT
X-WR-TIMEZONE:Europe/Berlin
DTSTART:20150211T163000
DTEND:20150211T180000
LOCATION:Zinnschmelze \, Maurienstraße 19 \, 22305 Hamburg
DTSTAMP:20260419T220424
SUMMARY:Startdeck III
URL;VALUE=URI:https://www.kultur-hamburg.de/kurse_workshops/startdeck-iii-201957
DESCRIPTION:Einsteigerkurs (12 bis 14 Jahre), Kursgebühr 38,00 EUR
UID:407b26de0530f8c8c60d3a124ba49eb1@kulturhamburg
END:VEVENT
END:VCALENDAR