BEGIN:VCALENDAR
VERSION:2.0
PRODID:-//STADTKULTUR HAMBURG//kultur-hamburg.de///DE
CALSCALE:GREGORIAN
BEGIN:VEVENT
X-WR-TIMEZONE:Europe/Berlin
DTSTART:20150212T194500
DTEND:20150212T211500
LOCATION:Zinnschmelze \, Maurienstraße 19 \, 22305 Hamburg
DTSTAMP:20260419T215835
SUMMARY:Startdeck Student
URL;VALUE=URI:https://www.kultur-hamburg.de/kurse_workshops/startdeck-student-201963
DESCRIPTION:Einsteigerkurs Studenten (18 bis 27 Jahre), Kursgebühr 38,00 EUR
UID:921d709b8f1d2f93dbee0a4f7521b867@kulturhamburg
END:VEVENT
END:VCALENDAR