BEGIN:VCALENDAR
VERSION:2.0
PRODID:-//STADTKULTUR HAMBURG//kultur-hamburg.de///DE
CALSCALE:GREGORIAN
BEGIN:VEVENT
X-WR-TIMEZONE:Europe/Berlin
DTSTART:20150211T134500
DTEND:20150617T164500
LOCATION:Ev. Familienbildung Harburg \, Hölertwiete 5 \, 21073 Hamburg
DTSTAMP:20260419T220346
SUMMARY:Unterwegs in und um Hamburg
URL;VALUE=URI:https://www.kultur-hamburg.de/kurse_workshops/unterwegs-in-und-um-hamburg-202273
DESCRIPTION:Altes neu entdecken - Neues erkunden: zwischen Alster und Elbe - Gärten und Gänge - Kirchen und Kontorhäuser… Die Treffen finden 2 x im Monat statt. Bei Besichtigungen sind auch andere Termine und Zeiten möglich.
UID:56479b9a5eefe4dc805312642abb4b9f@kulturhamburg
END:VEVENT
END:VCALENDAR