BEGIN:VCALENDAR
VERSION:2.0
PRODID:-//STADTKULTUR HAMBURG//kultur-hamburg.de///DE
CALSCALE:GREGORIAN
BEGIN:VEVENT
X-WR-TIMEZONE:Europe/Berlin
DTSTART:20150221T150000
DTEND:20150221T170000
LOCATION:Ev. Familienbildung Niendorf-Lokstedt \, Lippertsche Villa/ Garstedter Weg 9 \, 22453 Hamburg
DTSTAMP:20260419T201852
SUMMARY:Kinder - Kunst - Workshop "Henri Matisse"
URL;VALUE=URI:https://www.kultur-hamburg.de/kurse_workshops/kinder-kunst-workshop-henri-matisse-202279
DESCRIPTION:Für Kinder im Grundschulalter
Wir lernen die Scherenschnitt-Technik von Matisse kennen
und probieren diese mit eigenen Motiven aus. Es wird geschnibbelt und
geklebt.
UID:af6add3a69fe9a65a895e36028b6f4de@kulturhamburg
END:VEVENT
END:VCALENDAR