BEGIN:VCALENDAR
VERSION:2.0
PRODID:-//STADTKULTUR HAMBURG//kultur-hamburg.de///DE
CALSCALE:GREGORIAN
BEGIN:VEVENT
X-WR-TIMEZONE:Europe/Berlin
DTSTART:20150209T190000
DTEND:20150216T210000
LOCATION:Lichthof Theater \, Mendelssohnstraße 15 \, 22761 Hamburg
DTSTAMP:20260419T220547
SUMMARY:Improvisationstheater für Einsteiger
URL;VALUE=URI:https://www.kultur-hamburg.de/kurse_workshops/improvisationstheater-fuer-einsteiger-203177
DESCRIPTION:Improvisationstheater Kurs für Fortgeschrittene
UID:c13e32d1023f1459a3694bcb88ac6d9a@kulturhamburg
END:VEVENT
END:VCALENDAR