BEGIN:VCALENDAR
VERSION:2.0
PRODID:-//STADTKULTUR HAMBURG//kultur-hamburg.de///DE
CALSCALE:GREGORIAN
BEGIN:VEVENT
X-WR-TIMEZONE:Europe/Berlin
DTSTART:20150323T190000
DTEND:20150330T210000
LOCATION:Lichthof Theater \, Mendelssohnstraße 15 \, 22761 Hamburg
DTSTAMP:20260421T120750
SUMMARY:Improvisationstheater für Einsteiger
URL;VALUE=URI:https://www.kultur-hamburg.de/kurse_workshops/improvisationstheater-fuer-einsteiger-203189
DESCRIPTION:Improvisationstheater Kurs für Fortgeschrittene
UID:5889a64f73e96388cc040668ed204d6b@kulturhamburg
END:VEVENT
END:VCALENDAR