BEGIN:VCALENDAR
VERSION:2.0
PRODID:-//STADTKULTUR HAMBURG//kultur-hamburg.de///DE
CALSCALE:GREGORIAN
BEGIN:VEVENT
X-WR-TIMEZONE:Europe/Berlin
DTSTART:20131007T170000
DTEND:20131007T183000
LOCATION:Lenzsiedlung e.V. \, Julius-Vosseler-Straße 193 \, 22527 Hamburg
DTSTAMP:20260423T033934
SUMMARY:Boxtraining Kinder
URL;VALUE=URI:https://www.kultur-hamburg.de/kurse_workshops/boxtraining-kinder-203763
DESCRIPTION:Boxtraining für Kinder ab 8 Jahren.
UID:f0071ec267b6b6bcd8195006f222ed98@kulturhamburg
END:VEVENT
END:VCALENDAR