BEGIN:VCALENDAR
VERSION:2.0
PRODID:-//STADTKULTUR HAMBURG//kultur-hamburg.de///DE
CALSCALE:GREGORIAN
BEGIN:VEVENT
X-WR-TIMEZONE:Europe/Berlin
DTSTART:20131021T170000
DTEND:20131021T183000
LOCATION:Lenzsiedlung e.V. \, Julius-Vosseler-Straße 193 \, 22527 Hamburg
DTSTAMP:20260423T000206
SUMMARY:Boxtraining Kinder
URL;VALUE=URI:https://www.kultur-hamburg.de/kurse_workshops/boxtraining-kinder-203765
DESCRIPTION:Boxtraining für Kinder ab 8 Jahren.
UID:5ce012bd05b07df4160ac18469e9edaf@kulturhamburg
END:VEVENT
END:VCALENDAR