BEGIN:VCALENDAR
VERSION:2.0
PRODID:-//STADTKULTUR HAMBURG//kultur-hamburg.de///DE
CALSCALE:GREGORIAN
BEGIN:VEVENT
X-WR-TIMEZONE:Europe/Berlin
DTSTART:20131104T170000
DTEND:20131104T183000
LOCATION:Lenzsiedlung e.V. \, Julius-Vosseler-Straße 193 \, 22527 Hamburg
DTSTAMP:20260422T204800
SUMMARY:Boxtraining Kinder
URL;VALUE=URI:https://www.kultur-hamburg.de/kurse_workshops/boxtraining-kinder-203767
DESCRIPTION:Boxtraining für Kinder ab 8 Jahren.
UID:08fb122813e2125526b0ee1fb9d0f596@kulturhamburg
END:VEVENT
END:VCALENDAR