BEGIN:VCALENDAR
VERSION:2.0
PRODID:-//STADTKULTUR HAMBURG//kultur-hamburg.de///DE
CALSCALE:GREGORIAN
BEGIN:VEVENT
X-WR-TIMEZONE:Europe/Berlin
DTSTART:20131202T170000
DTEND:20131202T183000
LOCATION:Lenzsiedlung e.V. \, Julius-Vosseler-Straße 193 \, 22527 Hamburg
DTSTAMP:20260422T141433
SUMMARY:Boxtraining Kinder
URL;VALUE=URI:https://www.kultur-hamburg.de/kurse_workshops/boxtraining-kinder-203771
DESCRIPTION:Boxtraining für Kinder ab 8 Jahren.
UID:5173b9384e93b96242ab270b93fe7e8e@kulturhamburg
END:VEVENT
END:VCALENDAR