BEGIN:VCALENDAR
VERSION:2.0
PRODID:-//STADTKULTUR HAMBURG//kultur-hamburg.de///DE
CALSCALE:GREGORIAN
BEGIN:VEVENT
X-WR-TIMEZONE:Europe/Berlin
DTSTART:20140616T170000
DTEND:20140616T183000
LOCATION:Lenzsiedlung e.V. \, Julius-Vosseler-Straße 193 \, 22527 Hamburg
DTSTAMP:20260423T234220
SUMMARY:Boxtraining Kinder
URL;VALUE=URI:https://www.kultur-hamburg.de/kurse_workshops/boxtraining-kinder-203799
DESCRIPTION:Boxtraining für Kinder ab 8 Jahren.
UID:b45880e42d1d86a8d96fad7780049ec1@kulturhamburg
END:VEVENT
END:VCALENDAR