BEGIN:VCALENDAR
VERSION:2.0
PRODID:-//STADTKULTUR HAMBURG//kultur-hamburg.de///DE
CALSCALE:GREGORIAN
BEGIN:VEVENT
X-WR-TIMEZONE:Europe/Berlin
DTSTART:20150326T140000
DTEND:20150402T170000
LOCATION:Ev. Familienbildung Eppendorf \, Loogeplatz 14/16 \, 20249 Hamburg
DTSTAMP:20260421T122241
SUMMARY:Schnupperkurs Nähen für Jugendliche 14 - 18 Jahre
URL;VALUE=URI:https://www.kultur-hamburg.de/kurse_workshops/schnupperkurs-naehen-fuer-jugendliche-14-18-jahre-204306
DESCRIPTION:Der Schnupperkurs mit 2 Terminen richtet sich an alle Jugendliche, die sich im Nähen einmal ausprobieren möchten. In kleiner Gruppe machen wir euch mit der Nähmaschine vertraut und zeigen euch die wichtigsten Sticharten. Danach näht ihr, je nach Wunsch, euer eigenes Projekt - ein Utensilo, eine Kissenhülle oder eine Tasche. Gerne mit Modellbesprechung vor Kursbeginn.
UID:fbbe7df8e3ca0fb34894ba311acf398a@kulturhamburg
END:VEVENT
END:VCALENDAR