BEGIN:VCALENDAR
VERSION:2.0
PRODID:-//STADTKULTUR HAMBURG//kultur-hamburg.de///DE
CALSCALE:GREGORIAN
BEGIN:VEVENT
X-WR-TIMEZONE:Europe/Berlin
DTSTART:20150310T090000
DTEND:20150312T123000
LOCATION:Ev. Familienbildung Eppendorf \, Loogeplatz 14/16 \, 20249 Hamburg
DTSTAMP:20260419T152450
SUMMARY:Schnupperkurs Nähen für Jugendliche 14 - 18 Jahre
URL;VALUE=URI:https://www.kultur-hamburg.de/kurse_workshops/schnupperkurs-naehen-fuer-jugendliche-14-18-jahre-204309
DESCRIPTION:Shirts, Röcke oder Taschen sind nur Beispiele für leicht zu nähende Teile. In kleiner Gruppe von maximal 5 TeilnehmerInnen lernt ihr mit fachlicher Unterstützung wie Schritt für Schritt euer gewünschtes Modell entsteht. Wir werden das Schnittmuster in passender Größe ausarbeiten, die Schnittteile aus Stoff zuschneiden und euer Kleidungsstück nähen. Vorkenntnisse sind nicht erforderlich. Empfohlen werden nähleichte Schnitte. Telefonische Modellbesprechung vor Kursbeginn.
Bitte mitbringen: Stoff vorgewaschen, Schnittmuster, passendes Nähgarn, Stoffschere,  Nähnadeln.
UID:ffdf711b8adc092b213dbe501de398f7@kulturhamburg
END:VEVENT
END:VCALENDAR