BEGIN:VCALENDAR
VERSION:2.0
PRODID:-//STADTKULTUR HAMBURG//kultur-hamburg.de///DE
CALSCALE:GREGORIAN
BEGIN:VEVENT
X-WR-TIMEZONE:Europe/Berlin
DTSTART:20150307T103000
DTEND:20150314T160000
LOCATION:Ev. Familienbildung Eppendorf \, Loogeplatz 14/16 \, 20249 Hamburg
DTSTAMP:20260419T170709
SUMMARY:"Näh dich glücklich" - Fashion Recycling Workshop
URL;VALUE=URI:https://www.kultur-hamburg.de/kurse_workshops/naeh-dich-gluecklich-fashion-recycling-workshop-204317
DESCRIPTION:Wer kennt das nicht, der Kleiderschrank quillt über, aber vieles, was darin "lagert", ziehe ich nicht mehr an. Wegwerfen will man auch nicht, weil der Stoff gut ist, mir die Farbe oder das Muster noch gut gefällt oder einfach weil man es zu schade findet.
UID:5ecb200b983e377ebf6f9cddf23e54bd@kulturhamburg
END:VEVENT
END:VCALENDAR