BEGIN:VCALENDAR
VERSION:2.0
PRODID:-//STADTKULTUR HAMBURG//kultur-hamburg.de///DE
CALSCALE:GREGORIAN
BEGIN:VEVENT
X-WR-TIMEZONE:Europe/Berlin
DTSTART:20150302T100000
DTEND:20150302T160000
LOCATION:
DTSTAMP:20260419T170633
SUMMARY:Little Film Team
URL;VALUE=URI:https://www.kultur-hamburg.de/kurse_workshops/little-film-team-204361
DESCRIPTION:
UID:fd05b7f7ca27f3e6694f2d5e07e21d80@kulturhamburg
END:VEVENT
END:VCALENDAR