BEGIN:VCALENDAR
VERSION:2.0
PRODID:-//STADTKULTUR HAMBURG//kultur-hamburg.de///DE
CALSCALE:GREGORIAN
BEGIN:VEVENT
X-WR-TIMEZONE:Europe/Berlin
DTSTART:20150307T100000
DTEND:20150307T200000
LOCATION:
DTSTAMP:20260419T170433
SUMMARY:Integratives Stimmtraining - Einführungsseminar in Hamburg mit Romeo Alavi Kia (Wien)
URL;VALUE=URI:https://www.kultur-hamburg.de/kurse_workshops/integratives-stimmtraining-einfuehrungsseminar-in-hamburg-mit-romeo-alavi-kia-wien-204367
DESCRIPTION:
UID:6ffac93d22411178fd3097a1354df59a@kulturhamburg
END:VEVENT
END:VCALENDAR