BEGIN:VCALENDAR
VERSION:2.0
PRODID:-//STADTKULTUR HAMBURG//kultur-hamburg.de///DE
CALSCALE:GREGORIAN
BEGIN:VEVENT
X-WR-TIMEZONE:Europe/Berlin
DTSTART:20150314T150000
DTEND:20150314T170000
LOCATION:
DTSTAMP:20260419T152857
SUMMARY:Ukulelen-Workshop
URL;VALUE=URI:https://www.kultur-hamburg.de/kurse_workshops/ukulelen-workshop-204369
DESCRIPTION:
UID:bb562c5c339ec65d35defe6a31bbb244@kulturhamburg
END:VEVENT
END:VCALENDAR