BEGIN:VCALENDAR
VERSION:2.0
PRODID:-//STADTKULTUR HAMBURG//kultur-hamburg.de///DE
CALSCALE:GREGORIAN
BEGIN:VEVENT
X-WR-TIMEZONE:Europe/Berlin
DTSTART:20150319T183000
DTEND:20150709T203000
LOCATION:Lola Rogge Schule \, Landwehr 11-13 \, 22087 Hamburg
DTSTAMP:20260419T135420
SUMMARY:OPEN-JAZZ-CLASS - NEU IN DER LOLA ROGGE SCHULE
URL;VALUE=URI:https://www.kultur-hamburg.de/kurse_workshops/open-jazz-class-neu-in-der-lola-rogge-schule-206521
DESCRIPTION:
UID:76c2b7c850e73431c6b6f46f787c12ef@kulturhamburg
END:VEVENT
END:VCALENDAR