BEGIN:VCALENDAR
VERSION:2.0
PRODID:-//STADTKULTUR HAMBURG//kultur-hamburg.de///DE
CALSCALE:GREGORIAN
BEGIN:VEVENT
X-WR-TIMEZONE:Europe/Berlin
DTSTART:20150311T150000
DTEND:20150311T163000
LOCATION:Lenzsiedlung e.V. \, Julius-Vosseler-Straße 193 \, 22527 Hamburg
DTSTAMP:20260419T152903
SUMMARY:Computerkurs: “Eigener Laptop, eigenes Tablett“
URL;VALUE=URI:https://www.kultur-hamburg.de/kurse_workshops/computerkurs-eigener-laptop-eigenes-tablett-206656
DESCRIPTION:Sie lernen:
- Was haben alle Windows Geräte gemeinsam?
- Für welche Anwendungen ist mein eigenes Gerät ausgelegt?
- Wie komme ich bei Freunden ins Internet?
- Wie installiere ich Programme auf meinem Gerät?
- Arbeiten mit Emails.
- Hobbys, Interessen. Was für Programme und Aktivitäten mit dem Computer könnten mich interessieren?
- Basic Social Media: Facebook, Skype.
- Sicherheit.
UID:84c9fe509cdd81732b50d613e8b5d4be@kulturhamburg
END:VEVENT
END:VCALENDAR