BEGIN:VCALENDAR
VERSION:2.0
PRODID:-//STADTKULTUR HAMBURG//kultur-hamburg.de///DE
CALSCALE:GREGORIAN
BEGIN:VEVENT
X-WR-TIMEZONE:Europe/Berlin
DTSTART:20150118T110000
DTEND:20150118T170000
LOCATION:TASK Schauspielschule für Kinder und Jugendliche \, Stresemannstraße 163 (Neue Flora) \, 22769 Hamburg
DTSTAMP:20260420T045529
SUMMARY:FilmAkademie  für Kinder und Jugendliche * TASK Schauspielschule
URL;VALUE=URI:https://www.kultur-hamburg.de/kurse_workshops/filmakademie-fuer-kinder-und-jugendliche--task-schauspielschule-223254
DESCRIPTION:Die Workshops der FilmAkademie sind wie ein kleines Filmstudium aufgebaut. Am Ende hat man eine richtige Kurzausbildung zum Filmschauspieler.
UID:61d771c2bc9b7ca4b0b6156877d4bd40@kulturhamburg
END:VEVENT
END:VCALENDAR