BEGIN:VCALENDAR
VERSION:2.0
PRODID:-//STADTKULTUR HAMBURG//kultur-hamburg.de///DE
CALSCALE:GREGORIAN
BEGIN:VEVENT
X-WR-TIMEZONE:Europe/Berlin
DTSTART:20150201T110000
DTEND:20150201T170000
LOCATION:TASK Schauspielschule für Kinder und Jugendliche \, Stresemannstraße 163 (Neue Flora) \, 22769 Hamburg
DTSTAMP:20260420T011215
SUMMARY:FilmAkademie  für Kinder und Jugendliche * TASK Schauspielschule
URL;VALUE=URI:https://www.kultur-hamburg.de/kurse_workshops/filmakademie-fuer-kinder-und-jugendliche--task-schauspielschule-223256
DESCRIPTION:Die Workshops der FilmAkademie sind wie ein kleines Filmstudium aufgebaut. Am Ende hat man eine richtige Kurzausbildung zum Filmschauspieler.
UID:5ae693f41f27920f53e93a2a7ce80c3d@kulturhamburg
END:VEVENT
END:VCALENDAR