BEGIN:VCALENDAR
VERSION:2.0
PRODID:-//STADTKULTUR HAMBURG//kultur-hamburg.de///DE
CALSCALE:GREGORIAN
BEGIN:VEVENT
X-WR-TIMEZONE:Europe/Berlin
DTSTART:20150222T110000
DTEND:20150222T170000
LOCATION:TASK Schauspielschule für Kinder und Jugendliche \, Stresemannstraße 163 (Neue Flora) \, 22769 Hamburg
DTSTAMP:20260419T201744
SUMMARY:FilmAkademie  für Kinder und Jugendliche * TASK Schauspielschule
URL;VALUE=URI:https://www.kultur-hamburg.de/kurse_workshops/filmakademie-fuer-kinder-und-jugendliche--task-schauspielschule-223259
DESCRIPTION:Die Workshops der FilmAkademie sind wie ein kleines Filmstudium aufgebaut. Am Ende hat man eine richtige Kurzausbildung zum Filmschauspieler.
UID:1aa5f9d071fec613ae64fe03b36ca500@kulturhamburg
END:VEVENT
END:VCALENDAR