BEGIN:VCALENDAR
VERSION:2.0
PRODID:-//STADTKULTUR HAMBURG//kultur-hamburg.de///DE
CALSCALE:GREGORIAN
BEGIN:VEVENT
X-WR-TIMEZONE:Europe/Berlin
DTSTART:20190906T180000
DTEND:20190908T163000
LOCATION:MOTTE VERANSTALTUNGEN \, Rothestraße 48 \, 22765 Hamburg
DTSTAMP:20260423T051301
SUMMARY:Technik Total Technikworkshops für Frauen* Ein Kompaktwochenende rund um Sound
URL;VALUE=URI:https://www.kultur-hamburg.de/veranstaltungen/technik-total-technikworkshops-fuer-frauen-ein-kompaktwochenende-rund-um-sound-279618
DESCRIPTION:
UID:6225a2858d716f1cb3c23b4e403d7c12@kulturhamburg
END:VEVENT
END:VCALENDAR