BEGIN:VCALENDAR
VERSION:2.0
PRODID:-//STADTKULTUR HAMBURG//kultur-hamburg.de///DE
CALSCALE:GREGORIAN
BEGIN:VEVENT
X-WR-TIMEZONE:Europe/Berlin
DTSTART:20110903T100000
DTEND:20110903T130000
LOCATION:KulturKlinker Barmbek e.V. \, Lorichsstraße 28 a \, 22307 Hamburg
DTSTAMP:20260425T205841
SUMMARY:Feldenkrais – Workshop im August
URL;VALUE=URI:https://www.kultur-hamburg.de/kurse_workshops/feldenkrais--workshop-im-august-32460
DESCRIPTION:Feldenkrais – für den Rücken –
Die Feldenkrais Lernmethode gestaltet Lernprozesse durch Bewegung.
UID:f561a4c4eda3c71e5069c3b1169c916d@kulturhamburg
END:VEVENT
END:VCALENDAR