BEGIN:VCALENDAR
VERSION:2.0
PRODID:-//STADTKULTUR HAMBURG//kultur-hamburg.de///DE
CALSCALE:GREGORIAN
BEGIN:VEVENT
X-WR-TIMEZONE:Europe/Berlin
DTSTART:20110924T100000
DTEND:20110924T160000
LOCATION:Ev. Familienbildung Eppendorf \, Loogeplatz 14/16 \, 20249 Hamburg
DTSTAMP:20260425T154945
SUMMARY:Schnitt-Details Jacke oder Mantel — Für Fortgeschrittene
URL;VALUE=URI:https://www.kultur-hamburg.de/kurse_workshops/schnitt-details-jacke-oder-mantel-oe-fuer-fortgeschrittene-32737
DESCRIPTION:
UID:3196dc04c3f65c33ff412a0d5055e8d9@kulturhamburg
END:VEVENT
END:VCALENDAR