BEGIN:VCALENDAR
VERSION:2.0
PRODID:-//STADTKULTUR HAMBURG//kultur-hamburg.de///DE
CALSCALE:GREGORIAN
BEGIN:VEVENT
X-WR-TIMEZONE:Europe/Berlin
DTSTART:20111126T100000
DTEND:20111126T160000
LOCATION:Ev. Familienbildung Eppendorf \, Loogeplatz 14/16 \, 20249 Hamburg
DTSTAMP:20260423T001943
SUMMARY:Schnitt-Details Jeansrock — Für Fortgeschrittene
URL;VALUE=URI:https://www.kultur-hamburg.de/kurse_workshops/schnitt-details-jeansrock-oe-fuer-fortgeschrittene-32738
DESCRIPTION:
UID:f4b1379f4aa91aeadea4d2a64cc769ff@kulturhamburg
END:VEVENT
END:VCALENDAR