BEGIN:VCALENDAR
VERSION:2.0
PRODID:-//STADTKULTUR HAMBURG//kultur-hamburg.de///DE
CALSCALE:GREGORIAN
BEGIN:VEVENT
X-WR-TIMEZONE:Europe/Berlin
DTSTART:20110914T180000
DTEND:20110914T213000
LOCATION:Ev. Familienbildung Eppendorf \, Loogeplatz 14/16 \, 20249 Hamburg
DTSTAMP:20260425T173141
SUMMARY:Suppen und Desserts
URL;VALUE=URI:https://www.kultur-hamburg.de/kurse_workshops/suppen-und-desserts-35338
DESCRIPTION:
UID:bc99a4fe0e79aec4a571aa8f5d9f9736@kulturhamburg
END:VEVENT
END:VCALENDAR