BEGIN:VCALENDAR
VERSION:2.0
PRODID:-//STADTKULTUR HAMBURG//kultur-hamburg.de///DE
CALSCALE:GREGORIAN
BEGIN:VEVENT
X-WR-TIMEZONE:Europe/Berlin
DTSTART:20110906T180000
DTEND:20110906T213000
LOCATION:Ev. Familienbildung Eppendorf \, Loogeplatz 14/16 \, 20249 Hamburg
DTSTAMP:20260425T191431
SUMMARY:Orientalischer Gaumenzauber
URL;VALUE=URI:https://www.kultur-hamburg.de/kurse_workshops/orientalischer-gaumenzauber-35339
DESCRIPTION:
UID:d406d4b47bfb7a14c132ec94a2e0818a@kulturhamburg
END:VEVENT
END:VCALENDAR