BEGIN:VCALENDAR
VERSION:2.0
PRODID:-//STADTKULTUR HAMBURG//kultur-hamburg.de///DE
CALSCALE:GREGORIAN
BEGIN:VEVENT
X-WR-TIMEZONE:Europe/Berlin
DTSTART:20110910T103000
DTEND:20110910T140000
LOCATION:Bramfelder Kulturladen e. V. - BRAKULA \, Bramfelder Chaussee 265 \, 22177 Hamburg
DTSTAMP:20260425T191626
SUMMARY:Laboris - Stadt aus Strom
URL;VALUE=URI:https://www.kultur-hamburg.de/kurse_workshops/laboris-stadt-aus-strom-35431
DESCRIPTION:
UID:ba567e82dd1b1cef7705c24c3adb135f@kulturhamburg
END:VEVENT
END:VCALENDAR