BEGIN:VCALENDAR
VERSION:2.0
PRODID:-//STADTKULTUR HAMBURG//kultur-hamburg.de///DE
CALSCALE:GREGORIAN
BEGIN:VEVENT
X-WR-TIMEZONE:Europe/Berlin
DTSTART:20110919T103000
DTEND:20110919T113000
LOCATION:TASK Schauspielschule für Kinder und Jugendliche \, Stresemannstraße 163 (Neue Flora) \, 22769 Hamburg
DTSTAMP:20260425T154951
SUMMARY:KLANGZAUBER! Neuer Kurs für 1- bis 2-Jährige im SchauSpielgarten
URL;VALUE=URI:https://www.kultur-hamburg.de/kurse_workshops/klangzauber!-neuer-kurs-fuer-1-bis-2-jaehrige-im-schauspielgarten-35791
DESCRIPTION:Das gemeinsame Entdecken der wichtigsten Sinne steht im Mittelpunkt dieses Kurses.
UID:ec7fd8da140e5c3f07b9540188ab8c89@kulturhamburg
END:VEVENT
END:VCALENDAR