BEGIN:VCALENDAR
VERSION:2.0
PRODID:-//STADTKULTUR HAMBURG//kultur-hamburg.de///DE
CALSCALE:GREGORIAN
BEGIN:VEVENT
X-WR-TIMEZONE:Europe/Berlin
DTSTART:20111107T103000
DTEND:20111107T113000
LOCATION:TASK Schauspielschule für Kinder und Jugendliche \, Stresemannstraße 163 (Neue Flora) \, 22769 Hamburg
DTSTAMP:20260423T033801
SUMMARY:KLANGZAUBER! Neuer Kurs für 1- bis 2-Jährige im SchauSpielgarten
URL;VALUE=URI:https://www.kultur-hamburg.de/kurse_workshops/klangzauber!-neuer-kurs-fuer-1-bis-2-jaehrige-im-schauspielgarten-35798
DESCRIPTION:Das gemeinsame Entdecken der wichtigsten Sinne steht im Mittelpunkt dieses Kurses.
UID:f66a6f9c2d8080b134e5a08f142ab8e3@kulturhamburg
END:VEVENT
END:VCALENDAR